Workbook
Name _ftn1: 'V6'!$AB$13
Name _ftn2: 'V6'!$AA$91
Name _ftn3: 'V6'!$AA$92
Name _ftnref1: Data!$A$2
Name _ftnref2: 'V6'!#REF!
Name _ftnref3: 'V6'!#REF!
Name a: #REF!
Name aa: #REF!
Name Alt_1: Data!$C$156:$C$161
Name Alt_2: Data!$D$156:$D$161
Name Alt1_: Data!$E$158:$E$163
Name Alt2_: Data!$G$158:$G$163
Name Alternate_1_Onsite_Onsite_and_offsite_combination_renewable_energy_system: Data!$F$86:$F$90
Name Alternate_2_Off_site_renewable_energy_system: Data!$G$86:$G$86
Name Alternative: Data!$D$33:$D$34
Name Alternative_1_Demonstrate_temperature_reduction_in_the_predicted_hourly_average_air_temperature_°C_from_the_GRIHA_base_case: Data!$E$33:$E$34
Name Alternative_2_Demonstrate_that_the_difference_in_peak_air_temperature_has_been_achieved_through_dynamic_UHIE_simulation_from_the_GRIHA_base_case: Data!$F$33:$F$34
Name Alternative1: Data!$A$157:$A$157
Name Alternative2: Data!$B$157:$B$160
Name Alternative3: Data!#REF!
Name b: #REF!
Name bb: #REF!
Name building: #REF!
Name choice: #REF!
Name d: #REF!
Name daylight: #REF!
Name daylight1: #REF!
Name daylight2: #REF!
Name Daytime: #REF!
Name dd: #REF!
Name demand: #REF!
Name e: #REF!
Name EBE: #REF!
Name embe: #REF!
Name energy: #REF!
Name energy1: #REF!
Name flowfix: #REF!
Name flowfix1: #REF!
Name flowfix2: #REF!
Name flyash: #REF!
Name four: #REF!
Name inno: #REF!
Name innovation: #REF!
Name lists: #REF!
Name lists1: #REF!
Name listz: #REF!
Name livingarea: #REF!
Name livingarea1: #REF!
Name livingarea2: #REF!
Name lowimpact: #REF!
Name lowimpact1: #REF!
Name lowinmpact2: #REF!
Name main: #REF!
Name main1: #REF!
Name masonry: #REF!
Name name: #REF!
Name Not_Attempting: Data!$G$32:$G$33
Name one: #REF!
Name OPC: #REF!
Name path: #REF!

Sheet V6
A1: GRIHA V6 Self evaluation checklist
A2: Please note: several criteria in this feasibility sheet has fixed dropdowns. For those criteria, please select the points being attempted through selecting the correct option from the drop down.
A3: Name of the project | B3: ABC
A4: Rating attempted | B4: 5 Star
A5: Cr. No. | B5: Criterion name | D5: Max Points | E5: Points Attempted
A6: I - Sustainable Site Planning | D6: =D15+D20+D25 -> 12 | E6: =E15+E20+E25 -> 11
A7: 1 | B7: Green Infrastructure
B8: The site plan is in conformity with the development plan/master plan/ Urban and Regional Development Plans Formulation and Implementation (URDPFI) guidelines. This should comply with the provisions of eco-sensitive zone regulations, coastal zone regulations, heritage areas (identified in the master plan or issued separately as specific guidelines), water body zones (in such zones, no construction is permitted in the water-spread and buffer belt of minimum 30 m around the FTL), various hazard-prone area regulations, and others if the site falls under any such area. Further, any other relevant legal approval pertaining to the project for clearance from the necessary government authority has to be compliant (refer to Details to Appraisals). | D8: 0 | E8: 0
B9: Applicability Check: There are existing mature trees on site | D9: Yes
B10: Alternative 3: Plant three trees for every one tree cut of the same native/naturalized species. | D10: 0 | E10: 0
B11: Ensure that minimum of one tree for every 80 m2 of land/site area is planted and maintained in order to increase vegetation on-Site. | D11: 1 | E11: 1
B12: Ensure that per capita gross area benchmark is maintained as prescribed in Table 1.1c for optimum land utilization. | D12: 1 | E12: 1
B13: If average distance of at least 5 basic public amenities/services as per the building typology from the main entrance of the project, is less than the GRIHA base case 10% ≤ x < 25% | D13: 2 | E13: =IF(B13="Not Attempting",0,IF(B13="If average distance of at least 5 basic public amenities/services as per the building typology from the main entrance of the project, is less than the GRIHA base case 10% ≤ x < 25%",1,2)) -> 1
B14: Strategy 1: Provide at least four designated number of parking spaces for informal modes of transport within the site premises | D14: 1 | E14: =IF(B14="Not Attempting",0,1) -> 1
B15: Criterion total | D15: =D11+D12+D13+D14 -> 5 | E15: =SUM(E11:E14) -> 4
A17: 2 | B17: Low- Impact Design Strategies
B18: Demonstrate reduction in environmental impact by adoption of various low- impact planning and design strategies
B19: Select the no. of strategies attempted | C19: 5 (with at least 3 passive strategies) | D19: 5 | E19: =IF(C19="Not Attempting",0,IF(C19="2 (with at least 1 passive strategy)",1,IF(C19="3 (with at least 2 passive strategies)",3,5))) -> 5
B20: Criterion total | D20: =SUM(D16:D19) -> 5 | E20: =E19 -> 5
A22: 3 | B22: Design to mitigate UHIE
B23: Demonstrate the temperature reduction (in °C) from the GRIHA base case
B24: Alternative 1 - Demonstrate temperature reduction in the predicted hourly average air temperature (°C) from the GRIHA base case by performing calculations as per Table 3.1c. | C24: 2.5°C ≤ base case | D24: 2 | E24: {=IF(OR($B$24="",$C$24=""),"",_xlfn.XLOOKUP(1,(Data!$AA$25:$AA$28=$B$24)*(Data!$AB$25:$AB$28=$C$24),Data!$AC$25:$AC$28,0))} -> 2
B25: Criterion total | D25: 2 | E25: =SUM(E24) -> 2
A27: II - Construction Management | D27: =SUM(D31+D36+D41) -> 4 | E27: =SUM(E31+E36+E41) -> 4
A28: 4 | B28: Air & Soil Pollution control
B29: Adopt at least six measures to minimize air and soil pollution during construction | D29: 0 | E29: 0
B30: Soil erosion channels & Sedimentation are constructed throughout the construction phase of project | D30: 1 | E30: 1
B31: Criterion total | D31: =SUM(D29:D30) -> 1 | E31: =SUM(E29:E30) -> 1
A33: 5 | B33: Topsoil Preservation
B34: Applicability Check: Top soil is fertile or can be made fertile through organic means | D34: Yes & attempting
B35: Ensure that topsoil from the excavated area is preserved, stabilized within the site, and its fertility is maintained throughout the construction period. Additionally, ensure that 100% of the landscaping soil demand(both ground and roof) is met through the use of preserved soil. | D35: =IF(D34="No",0,1) -> 1 | E35: =IF(D34="Yes & attempting",1,0) -> 1
B36: Criterion total | D36: =D35 -> 1 | E36: =SUM(E35) -> 1
A38: 6 | B38: Construction Management Practices
B39: Adopt construction management practices and ensure safe disposal of waste generated during construction | D39: 1 | E39: 1
B40: Adopt at least two strategies to minimize water consumption during construction | D40: 1 | E40: 1
B41: Criterion total | D41: =SUM(D39:D40) -> 2 | E41: =SUM(E39:E40) -> 2
A43: III - Energy Optimization | D43: =D57+D63+D70 -> 17 | E43: =E57+E63+E70 -> 17
A44: 7 | B44: Energy Optimization
B45: Ensure that the project demonstrates compliance with the mandatory requirements of ECBC 2017 for non-residential buildings and ENS for residential buildings. | D45: 0 | E45: 0
B46: Applicability check: Is the building air conditioned? | D46: Yes & attempting
...

Sheet Data
A1: Alternative 1: Ensure that no existing mature tree on-site is cut.
A2: Alternative 2: Transplant existing mature trees (if required) within the site and ensure that they survive. Unsuccessful transplantation[1] attempts will not be counted.
A3: Alternative 3: Plant three trees for every one tree cut of the same native/naturalized species.
A4: Alternative 4: Adopt any combination of the previously mentioned alternatives
A7: Not Attempting
A8: If average distance of at least 5 basic public amenities/services as per the building typology from the main entrance of the project, is less than the GRIHA base case 10% ≤ x < 25%
A9: If average distance of at least 5 basic public amenities/services as per the building typology from the main entrance of the project, is less than the GRIHA base case ≥ 25%
A10: Shuttle service for atleast 1% total occupants provided to nearest market/shopping complex having atleast 5 basic public amenities/services.
A13: Not Attempting
A14: Strategy 1: Provide at least four designated number of parking spaces for informal modes of transport within the site premises
A15: Strategy 2: Part A- Provide Non-motorised transport (NMT) vehicle facility with at least 5% of the total 4-wheeler parking space designated to them on site along with charging facility for E-vehicles and adequate signage. And Part B: Additionally provide designated vehicular tracks for NMT vehicles for site areas > 50,000 m2.
A16: Strategy 3: Provide bicycle users with at least 5% of the total 4-wheeler parking space designated to them along with changing rooms, showers, lockers within the site premises with adequate signage
A20: Not Attempting | D20: Not Attempting
A21: 2 (with at least 1 passive strategy) | B21: 1 | D21: Alternative 1: Threshold for peak heat gain (W/m2) for different building typologies.
A22: 3 (with at least 2 passive strategies) | B22: 3 | D22: Alternative 2: Threshold for peak heat gain (W/m²) for different building typologies.
A23: 5 (with at least 3 passive strategies) | B23: 5
AA24: Alternative | AB24: Option | AC24: Points | AD24: {=_xlfn.UNIQUE(AA25:AA28)} -> Alternative 1 - Demonstrate temperature reduction in the predicted hourly average air temperature (°C) from the GRIHA base case by performing calculations as per Table 3.1c. | AE24: {=IF('V6'!$B$24="","",_xlfn._xlws.FILTER($AB$25:$AB$28,$AA$25:$AA$28='V6'!$B$24))} -> 1.5°C ≤ base case
A25: Alternative 1 - Demonstrate temperature reduction in the predicted hourly average air temperature (°C) from the GRIHA base case | B25: 1.5°C ≤ base case | D25: Not attempting | AA25: Alternative 1 - Demonstrate temperature reduction in the predicted hourly average air temperature (°C) from the GRIHA base case by performing calculations as per Table 3.1c. | AB25: 1.5°C ≤ base case | AC25: 1 | AD25: Alternative 2 - Demonstrate that the difference in peak air temperature has been achieved through dynamic UHIE simulation from the GRIHA base case as per Table 3.2c. | AE25: 2.5°C ≤ base case
A26: Alternative 2 - Demonstrate that the difference in peak air temperature has been achieved through dynamic UHIE simulation from the GRIHA base case | B26: 2.5°C ≤ base case | D26: Alternative 1: Additional reduction from GRIHA benchmark for EPI as per table 7.3c | AA26: Alternative 1 - Demonstrate temperature reduction in the predicted hourly average air temperature (°C) from the GRIHA base case by performing calculations as per Table 3.1c. | AB26: 2.5°C ≤ base case | AC26: 2
B27: 1°C ≤ base case | D27: Alternative 2: Additional reduction from GRIHA benchmark for EPI as per table 7.3c | J27: Typology | K27: Occupancy | L27: Percentage | M27: Points | O27: {=_xlfn.UNIQUE($J$29:$J$68)} -> Institutional | P27: {=IF('V6'!$B$61="","",_xlfn.UNIQUE(_xlfn._xlws.FILTER($K$29:$K$70,($J$29:$J$70='V6'!$B$61)*($K$29:$K$70<>""))))} -> 5 days a week | R27: {=IF(OR('V6'!$B$61="",'V6'!$C$61=""),"",_xlfn._xlws.FILTER($L$29:$L$68,($J$29:$J$68='V6'!$B$61)*($K$29:$K$68='V6'!$C$61)*($L$29:$L$68<>"")))} -> 0.05 | AA27: Alternative 2 - Demonstrate that the difference in peak air temperature has been achieved through dynamic UHIE simulation from the GRIHA base case as per Table 3.2c. | AB27: 1°C ≤ base case | AC27: 1
O28: Office | P28: 7 days a week | R28: 0.1 | AA28: Alternative 2 - Demonstrate that the difference in peak air temperature has been achieved through dynamic UHIE simulation from the GRIHA base case as per Table 3.2c. | AB28: 2°C ≤ base case | AC28: 2
J29: Institutional | K29: 5 days a week | L29: 0.05 | M29: 0 | O29: Healthcare | R29: 0.15
A30: Reduction in project EPI against the GRIHA Base line | J30: Institutional | K30: 5 days a week | L30: 0.1 | M30: 1 | O30: Hospitality | R30: 0.2
A31: Mandatory | B31: Mandatory | J31: Institutional | K31: 5 days a week | L31: 0.15 | M31: 2 | O31: Residential | R31: 0.25
A32: 10% ≤ x < 20% | B32: 1 | D32: Alternative | E32: Alternative 1 - Demonstrate temperature reduction in the predicted hourly average air temperature (°C) from the GRIHA base case | F32: Alternative 2 - Demonstrate that the difference in peak air temperature has been achieved through dynamic UHIE simulation from the GRIHA base case | G32: Not_Attempting | J32: Institutional | K32: 5 days a week | L32: 0.2 | M32: 3 | O32: Retail
A33: 20% ≤ x < 30% | B33: 2 | D33: Alternative_1_Demonstrate_temperature_reduction_in_the_predicted_hourly_average_air_temperature_°C_from_the_GRIHA_base_case | E33: 1.5°C ≤ base case | F33: 1°C ≤ base case | G33: Not Attempting | J33: Institutional | K33: 5 days a week | L33: 0.25 | M33: 5 | O33: Transit Terminals
A34: 30% ≤ x < 40% | B34: 4 | D34: Alternative_2_Demonstrate_that_the_difference_in_peak_air_temperature_has_been_achieved_through_dynamic_UHIE_simulation_from_the_GRIHA_base_case | E34: 2.5°C ≤ base case | F34: 2°C ≤ base case | J34: Office | K34: 5 days a week | L34: 0.05 | M34: 0
A35: 40% ≤ x < 50% | B35: 6 | D35: Not_Attempting | J35: Office | K35: 5 days a week | L35: 0.1 | M35: 1
A36: x ≥ 50% | B36: 8 | J36: Office | K36: 5 days a week | L36: 0.15 | M36: 2
J37: Office | K37: 5 days a week | L37: 0.2 | M37: 3
A38: Alternative 1 (On-site/On-site and off-site combination renewable energy system) | B38: Alternative 2 (Off-site renewable energy system) | J38: Office | K38: 5 days a week | L38: 0.25 | M38: 5
D39: No | J39: Healthcare | K39: 7 days a week | L39: 0.01 | M39: 0
A40: Not Attempting | D40: Yes & attempting | J40: Healthcare | K40: 7 days a week | L40: 0.03 | M40: 1
A41: > 30% | D41: Yes but not attempting | J41: Healthcare | K41: 7 days a week | L41: 0.05 | M41: 2
A42: 20% < x ≤ 30% | J42: Healthcare | K42: 7 days a week | L42: 0.07 | M42: 3
A43: Not Attempting | J43: Healthcare | K43: 7 days a week | L43: 0.1 | M43: 5
A44: 50% < x < 70% | J44: Hospitality | K44: 7 days a week | L44: 0.01 | M44: 0
A45: x ≥ 75% | J45: Hospitality | K45: 7 days a week | L45: 0.03 | M45: 1
J46: Hospitality | K46: 7 days a week | L46: 0.05 | M46: 2
A47: Not Attempting | J47: Hospitality | K47: 7 days a week | L47: 0.07 | M47: 3
...
