Workbook
Name _ftn1: 'V6'!$AB$13
Name _ftn2: 'V6'!$AA$91
Name _ftn3: 'V6'!$AA$92
Name _ftnref1: Data!$A$2
Name _ftnref2: 'V6'!#REF!
Name _ftnref3: 'V6'!#REF!
Name a: #REF!
Name aa: #REF!
Name Alt_1: Data!$C$156:$C$161
Name Alt_2: Data!$D$156:$D$161
Name Alt1_: Data!$E$158:$E$163
Name Alt2_: Data!$G$158:$G$163
Name Alternate_1_Onsite_Onsite_and_offsite_combination_renewable_energy_system: Data!$F$86:$F$90
Name Alternate_2_Off_site_renewable_energy_system: Data!$G$86:$G$86
Name Alternative: Data!$D$33:$D$34
Name Alternative_1_Demonstrate_temperature_reduction_in_the_predicted_hourly_average_air_temperature_°C_from_the_GRIHA_base_case: Data!$E$33:$E$34
Name Alternative_2_Demonstrate_that_the_difference_in_peak_air_temperature_has_been_achieved_through_dynamic_UHIE_simulation_from_the_GRIHA_base_case: Data!$F$33:$F$34
Name Alternative1: Data!$A$157:$A$157
Name Alternative2: Data!$B$157:$B$160
Name Alternative3: Data!#REF!
Name b: #REF!
Name bb: #REF!
Name building: #REF!
Name choice: #REF!
Name d: #REF!
Name daylight: #REF!
Name daylight1: #REF!
Name daylight2: #REF!
Name Daytime: #REF!
Name dd: #REF!
Name demand: #REF!
Name e: #REF!
Name EBE: #REF!
Name embe: #REF!
Name energy: #REF!
Name energy1: #REF!
Name flowfix: #REF!
Name flowfix1: #REF!
Name flowfix2: #REF!
Name flyash: #REF!
Name four: #REF!
Name inno: #REF!
Name innovation: #REF!
Name lists: #REF!
Name lists1: #REF!
Name listz: #REF!
Name livingarea: #REF!
Name livingarea1: #REF!
Name livingarea2: #REF!
Name lowimpact: #REF!
Name lowimpact1: #REF!
Name lowinmpact2: #REF!
Name main: #REF!
Name main1: #REF!
Name masonry: #REF!
Name name: #REF!
Name Not_Attempting: Data!$G$32:$G$33
Name one: #REF!
Name OPC: #REF!
Name path: #REF!

Sheet V6
A1: GRIHA V6 Self evaluation checklist
A2: Please note: several criteria in this feasibility sheet has fixed dropdowns. For those criteria, please select the points being attempted through selecting the correct option from the drop down.
A3: Name of the project | B3: ABC
A4: Rating attempted | B4: 5 Star
A5: Cr. No. | B5: Criterion name | D5: Max Points | E5: Points Attempted
A6: I - Sustainable Site Planning | D6: =D15+D20+D25 -> 12 | E6: =E15+E20+E25 -> 11
A7: 1 | B7: Green Infrastructure
B8: The site plan is in conformity with the development plan/master plan/ Urban and Regional Development Plans Formulation and Implementation (URDPFI) guidelines. This should comply with the provisions of eco-sensitive zone regulations, coastal zone regulations, heritage areas (identified in the master plan or issued separately as specific guidelines), water body zones (in such zones, no construction is permitted in the water-spread and buffer belt of minimum 30 m around the FTL), various hazard-prone area regulations, and others if the site falls under any such area. Further, any other relevant legal approval pertaining to the project for clearance from the necessary government authority has to be compliant (refer to Details to Appraisals). | D8: 0 | E8: 0
B9: Applicability Check: There are existing mature trees on site | D9: Yes
B10: Alternative 3: Plant three trees for every one tree cut of the same native/naturalized species. | D10: 0 | E10: 0
B11: Ensure that minimum of one tree for every 80 m2 of land/site area is planted and maintained in order to increase vegetation on-Site. | D11: 1 | E11: 1
B12: Ensure that per capita gross area benchmark is maintained as prescribed in Table 1.1c for optimum land utilization. | D12: 1 | E12: 1
B13: If average distance of at least 5 basic public amenities/services as per the building typology from the main entrance of the project, is less than the GRIHA base case 10% ≤ x < 25% | D13: 2 | E13: =IF(B13="Not Attempting",0,IF(B13="If average distance of at least 5 basic public amenities/services as per the building typology from the main entrance of the project, is less than the GRIHA base case 10% ≤ x < 25%",1,2)) -> 1
B14: Strategy 1: Provide at least four designated number of parking spaces for informal modes of transport within the site premises | D14: 1 | E14: =IF(B14="Not Attempting",0,1) -> 1
B15: Criterion total | D15: =D11+D12+D13+D14 -> 5 | E15: =SUM(E11:E14) -> 4
A17: 2 | B17: Low- Impact Design Strategies
B18: Demonstrate reduction in environmental impact by adoption of various low- impact planning and design strategies
B19: Select the no. of strategies attempted | C19: 5 (with at least 3 passive strategies) | D19: 5 | E19: =IF(C19="Not Attempting",0,IF(C19="2 (with at least 1 passive strategy)",1,IF(C19="3 (with at least 2 passive strategies)",3,5))) -> 5
B20: Criterion total | D20: =SUM(D16:D19) -> 5 | E20: =E19 -> 5
A22: 3 | B22: Design to mitigate UHIE
B23: Demonstrate the temperature reduction (in °C) from the GRIHA base case
B24: Alternative 1 - Demonstrate temperature reduction in the predicted hourly average air temperature (°C) from the GRIHA base case by performing calculations as per Table 3.1c. | C24: 2.5°C ≤ base case | D24: 2 | E24: {=IF(OR($B$24="",$C$24=""),"",_xlfn.XLOOKUP(1,(Data!$AA$25:$AA$28=$B$24)*(Data!$AB$25:$AB$28=$C$24),Data!$AC$25:$AC$28,0))} -> 2
B25: Criterion total | D25: 2 | E25: =SUM(E24) -> 2
A27: II - Construction Management | D27: =SUM(D31+D36+D41) -> 4 | E27: =SUM(E31+E36+E41) -> 4
A28: 4 | B28: Air & Soil Pollution control
B29: Adopt at least six measures to minimize air and soil pollution during construction | D29: 0 | E29: 0
B30: Soil erosion channels & Sedimentation are constructed throughout the construction phase of project | D30: 1 | E30: 1
B31: Criterion total | D31: =SUM(D29:D30) -> 1 | E31: =SUM(E29:E30) -> 1
A33: 5 | B33: Topsoil Preservation
B34: Applicability Check: Top soil is fertile or can be made fertile through organic means | D34: Yes & attempting
B35: Ensure that topsoil from the excavated area is preserved, stabilized within the site, and its fertility is maintained throughout the construction period. Additionally, ensure that 100% of the landscaping soil demand(both ground and roof) is met through the use of preserved soil. | D35: =IF(D34="No",0,1) -> 1 | E35: =IF(D34="Yes & attempting",1,0) -> 1
B36: Criterion total | D36: =D35 -> 1 | E36: =SUM(E35) -> 1
A38: 6 | B38: Construction Management Practices
B39: Adopt construction management practices and ensure safe disposal of waste generated during construction | D39: 1 | E39: 1
B40: Adopt at least two strategies to minimize water consumption during construction | D40: 1 | E40: 1
B41: Criterion total | D41: =SUM(D39:D40) -> 2 | E41: =SUM(E39:E40) -> 2
A43: III - Energy Optimization | D43: =D57+D63+D70 -> 17 | E43: =E57+E63+E70 -> 17
A44: 7 | B44: Energy Optimization
B45: Ensure that the project demonstrates compliance with the mandatory requirements of ECBC 2017 for non-residential buildings and ENS for residential buildings. | D45: 0 | E45: 0
B46: Applicability check: Is the building air conditioned? | D46: Yes & attempting
B47: Ensure that the heat gain through the building envelope (air- conditioned and hybrid buildings) is below the GRIHA threshold for peak heat gain as per table 7.1c. | D47: =IF(D46="No",0,"2") -> 2 | E47: =IF(D46="Yes & attempting",2,"0") -> 2
B48: Note: Alternative 2 under appraisal 7.1.2 shall be applicable only to projects opting for Alternative 1 Option B under 10.1.1.
B49: Alternative 1: Threshold for peak heat gain (W/m2) for different building typologies.
B50: 100% of exterior lighting fixtures (lamp + ballast) meet the luminous efficacy of 80 lm/W | D50: 1 | E50: 1
B51: Ensure that the project demonstrates reduction from the GRIHA benchmark for EPI as per table 7.2c | D51: 0 | E51: 0
B52: Note: Alternative 2 under appraisal 7.1.2 shall be applicable only to projects opting for Alternative 1 Option B under 10.1.1.
B53: Alternative 1: Additional reduction from GRIHA benchmark for EPI as per table 7.3c | C53: X>50% | D53: 8 | E53: =IF(C53="","",IF(ISNUMBER(SEARCH("Alternative 1",$B$53)),_xlfn.XLOOKUP(C53,Data!$E$158:$E$163,Data!$F$158:$F$163),_xlfn.XLOOKUP(C53,Data!$G$158:$G$163,Data!$H$158:$H$163))) -> 8
B54: Ensure that the equipment installed within the project is either BEE-star labelled or of equivalent performance
B55: BEE star labeled | D55: 0 | E55: 0
B56: 3 star labelled & above | D56: 1 | E56: 1
B57: Criterion total | D57: =D47+D50+D53+D56 -> 12 | E57: =E47+E50+E53+E56 -> 12
A59: 8 | B59: Renewable energy Utilization
B60: Alternative 1 (On-site/On-site and off-site combination renewable energy system) | D60: 5 | E60: {=IF($B$60="Alternative 2 (Off-site renewable energy system)",5,IF(OR($B$61="",$C$61="",$B$62=""),"",_xlfn.XLOOKUP(1,(Data!$J$29:$J$68=$B$61)*(Data!$K$29:$K$68=$C$61)*(Data!$L$29:$L$68=$B$62),Data!$M$29:$M$68,"")))} -> 5
B61: Office | C61: 5 days a week
B62: 0.25
B63: Criterion total | D63: =D60 -> 5 | E63: =E60 -> 5
A65: 9 | B65: Low ODP And GWP Materials
B66: Ensure that all the insulation used in the building envelope and for HVAC systems are CFC and HCFC free | D66: 0 | E66: 0
B67: Ensure that the refrigerant used in the HVAC systems and refrigeration equipment is CFC and HCFC free | D67: 0 | E67: 0
B68: Ensure that the fire suppression systems and fire extinguishers installed in the project are halon free | D68: 0 | E68: 0
B70: Criterion total | D70: =SUM(D66:D69) -> 0 | E70: =SUM(E66:E69) -> 0
A72: IV - Occupant Comfort | D72: =D91+D98+D110 -> 13 | E72: =E91+E98+E110 -> 13
A73: 10 | B73: Visual Comfort
B74: Alternative 1: Option B
B75: Alternative 1: Option A
B76: WWR does not exceed 60% and the vertical fenestration complies with minimum VLT of 0.27 | D76: 0 | E76: 0
B77: Use any combination of the above strategies to show compliance for 100% of the fenestrations. | D77: 0 | E77: 0
B78: Ensure that the SRR does not exceed 5% and SHGC for skylights does not exceed 0.35. Only transparent, semi-transparent, or translucent horizontal fenestrations installed for the purposes of daylighting and/or views are considered skylights. | D78: 0 | E78: 0
B79: Ensure that all regularly occupied spaces meet or exceed illuminance level between 100lux and 2000lux for the minimum percentage of floor area prescribed in Table 10.2c for 90% of the potential daylight time in a year. | D79: =IF($B$74="Alternative 2",0,4) -> 4 | E79: {=IF($B$74<>"Alternative 1: Option A",0,IF(OR($B$80="",$C$80=""),"",_xlfn.XLOOKUP(1,(Data!$K$135:$K$154=$B$80)*(Data!$L$135:$L$154=$C$80),Data!$M$135:$M$154,"")))} -> 0
B80: Institutional | C80: 0.6
B81: Note: Alternative 1 Option B under 10.1.1 shall be applicable only to projects opting for Alternative 2 under appraisal 7.1.2.
B82: Alternative 1: Option B
B83: Ensure that the project meets the weighted average facade SHGC for each orientation as per Table 10.3c requirements. | D83: 0 | E83: 0
B84: Ensure that all regularly occupied spaces meet or exceed illuminance level between 100lux and 2000lux for the minimum percentage of floor area prescribed in Table 10.2c for 90% of the potential daylight time in a year. | D84: 4 | E84: {=IF($B$74<>"Alternative 1: Option B",0,IF(OR($B$85="",$C$85=""),"",_xlfn.XLOOKUP(1,(Data!$K$135:$K$155=$B$85)*(Data!$L$135:$L$155=$C$85),Data!$M$135:$M$155,"")))} -> 4
B85: Healthcare | C85: 0.5
B86: Alternative 2
B87: Demonstrate through simulation that mean DA requirement (<3000lux) is met for 100% of the annual analysis hours for 100% of the regularly occupied areas. | D87: 0 | E87: 0
B88: Demonstrate through simulation that mean DA requirement (>300lux) is met for the annual analysis hours as listed in Table 10.4c for 100% of the regularly occupied areas. | D88: 4 | E88: {=IF($B$74<>"Alternative 2",0,IF(OR($B$89="",$C$89=""),"",_xlfn.XLOOKUP(1,(Data!$A$202:$A$221=$B$89)*(Data!$B$202:$B$221=$C$89),Data!$C$202:$C$221,0)))} -> 0
B89: Retail | C89: 0.15
B90: Artificial lighting design to fall within limits (lower and higher range limits) as recommended space/task specific lighting levels as per NBC 2016 and to meet a minimum uniformity ratio of 0.4. | D90: 0 | E90: 0
B91: Criterion total | D91: 4 | E91: =SUM(E88,E84,E79) -> 4
A93: 11 | B93: Thermal and Acoustic comfort
B94: Demonstrate that the project meets the thermal comfort requirements for all regularly occupied spaces as specified in Table 11.1c. | D94: 0 | E94: 0
B95: Non-Air-conditioned spaces (with openable windows) | C95: * For Non-air conditioned spaces (with openable windows) Alternative 2: Demonstrate using at least 7 strategies (refer to Table 11.2c for prescribed strategies) that all the exterior fenestration is designed in accordance with NBC 2016 in terms of window orientation, size, placement, and shading design to facilitate wind flow into the interior spaces AND Demonstrate that the optimum size/number of fans are installed in rooms of different sizes in accordance with NBC 2016. Refer to Tables 11.3c and 11.4c
B96: Adopt at least two noise mitigation strategies to demonstrate that acoustic comfort is met for exterior spaces in the project. | D96: 1 | E96: 1
B97: Demonstrate that indoor noise levels are within acceptable limits as per NBC 2016, Part 8, Section 4 and key noise sources on-site (DG, chiller plant, etc.) have sufficient acoustic insulation as per NBC 2016 to maintain acoustic comfort are met for all regularly occupied spaces. | D97: 1 | E97: 1
B98: Criterion total | D98: =SUM(D94:D97) -> 2 | E98: =SUM(E94:E97) -> 2
A100: 12 | B100: Indoor Air Quality
B101: Applicability check Do all regularly occupied spaces have operable windows? | D101: No & attempting
B102: Ensure that the minimum requirements of CPCB (NAAQS) for assessing the quality of fresh air are fulfilled | D102: =IF(D101="Yes",0,1) -> 1 | E102: =IF(D101="No & attempting",1,"0") -> 1
B103: Ensure that the minimum requirements of ASHRAE Standard 62.1–2010, Sections 4–7, Ventilation for Acceptable Indoor Air Quantity (with errata), or NBC 2016, Volume 2, Part 8, Section 3, for quantity of fresh air are met. | D103: =IF(D101="Yes",0,1) -> 1 | E103: =IF(D101="No & attempting",1,"0") -> 1
B104: Ensure continuous monitoring of CO, CO2, temperature, and RH levels such that they meet the permissible thresholds as per ISHRAE standard 10001:2016, for all habitable areas either at space level or at AHU’s by installation of sensor(s) deployed with feedback system as per the alternatives mentioned in Table 12.1 c and 12.2c.
B105: Sensors/ monitoring devices: Alternative 2 (AHU Level): Install one sensor at each AHU (return air duct) | D105: 1 | E105: 1
B106: Display sensors: Install digital display showing monitored values for CO, CO2, temperature, and RH at each floor level (common areas) with permissible thresholds (as per Table 12.2c only for CO and CO2) and clear visibility for all occupants | D106: 1 | E106: 1
B107: Ensure that all interior wall and ceiling finishes (including, but not limited to, primers and paints) have low volatile organic compound (VOC) content as per table 12.3c and lead content to be within permissible limits (<=90ppm). | D107: 1 | E107: 1
B108: Ensure that all adhesives and sealants used have low VOC content as per Tables 12.4c and 12.5c and that interior composite wood products do not have urea–formaldehyde as a bonding resin. | D108: 1 | E108: 1
B109: Ensure improved indoor air quality by adopting a minimum of three strategies | D109: 1 | E109: 1
B110: Criterion total | D110: =SUM(D102:D109) -> 7 | E110: =SUM(E102:E109) -> 7
A112: V - Water Management | D112: =D119+D125+D130+D136 -> 16 | E112: =E119+E125+E130+E136 -> 16
A113: 13 | B113: Water demand redcution
...

Sheet Data
A1: Alternative 1: Ensure that no existing mature tree on-site is cut.
A2: Alternative 2: Transplant existing mature trees (if required) within the site and ensure that they survive. Unsuccessful transplantation[1] attempts will not be counted.
A3: Alternative 3: Plant three trees for every one tree cut of the same native/naturalized species.
A4: Alternative 4: Adopt any combination of the previously mentioned alternatives
A7: Not Attempting
A8: If average distance of at least 5 basic public amenities/services as per the building typology from the main entrance of the project, is less than the GRIHA base case 10% ≤ x < 25%
A9: If average distance of at least 5 basic public amenities/services as per the building typology from the main entrance of the project, is less than the GRIHA base case ≥ 25%
A10: Shuttle service for atleast 1% total occupants provided to nearest market/shopping complex having atleast 5 basic public amenities/services.
A13: Not Attempting
A14: Strategy 1: Provide at least four designated number of parking spaces for informal modes of transport within the site premises
A15: Strategy 2: Part A- Provide Non-motorised transport (NMT) vehicle facility with at least 5% of the total 4-wheeler parking space designated to them on site along with charging facility for E-vehicles and adequate signage. And Part B: Additionally provide designated vehicular tracks for NMT vehicles for site areas > 50,000 m2.
A16: Strategy 3: Provide bicycle users with at least 5% of the total 4-wheeler parking space designated to them along with changing rooms, showers, lockers within the site premises with adequate signage
A20: Not Attempting | D20: Not Attempting
A21: 2 (with at least 1 passive strategy) | B21: 1 | D21: Alternative 1: Threshold for peak heat gain (W/m2) for different building typologies.
A22: 3 (with at least 2 passive strategies) | B22: 3 | D22: Alternative 2: Threshold for peak heat gain (W/m²) for different building typologies.
A23: 5 (with at least 3 passive strategies) | B23: 5
AA24: Alternative | AB24: Option | AC24: Points | AD24: {=_xlfn.UNIQUE(AA25:AA28)} -> Alternative 1 - Demonstrate temperature reduction in the predicted hourly average air temperature (°C) from the GRIHA base case by performing calculations as per Table 3.1c. | AE24: {=IF('V6'!$B$24="","",_xlfn._xlws.FILTER($AB$25:$AB$28,$AA$25:$AA$28='V6'!$B$24))} -> 1.5°C ≤ base case
A25: Alternative 1 - Demonstrate temperature reduction in the predicted hourly average air temperature (°C) from the GRIHA base case | B25: 1.5°C ≤ base case | D25: Not attempting | AA25: Alternative 1 - Demonstrate temperature reduction in the predicted hourly average air temperature (°C) from the GRIHA base case by performing calculations as per Table 3.1c. | AB25: 1.5°C ≤ base case | AC25: 1 | AD25: Alternative 2 - Demonstrate that the difference in peak air temperature has been achieved through dynamic UHIE simulation from the GRIHA base case as per Table 3.2c. | AE25: 2.5°C ≤ base case
A26: Alternative 2 - Demonstrate that the difference in peak air temperature has been achieved through dynamic UHIE simulation from the GRIHA base case | B26: 2.5°C ≤ base case | D26: Alternative 1: Additional reduction from GRIHA benchmark for EPI as per table 7.3c | AA26: Alternative 1 - Demonstrate temperature reduction in the predicted hourly average air temperature (°C) from the GRIHA base case by performing calculations as per Table 3.1c. | AB26: 2.5°C ≤ base case | AC26: 2
B27: 1°C ≤ base case | D27: Alternative 2: Additional reduction from GRIHA benchmark for EPI as per table 7.3c | J27: Typology | K27: Occupancy | L27: Percentage | M27: Points | O27: {=_xlfn.UNIQUE($J$29:$J$68)} -> Institutional | P27: {=IF('V6'!$B$61="","",_xlfn.UNIQUE(_xlfn._xlws.FILTER($K$29:$K$70,($J$29:$J$70='V6'!$B$61)*($K$29:$K$70<>""))))} -> 5 days a week | R27: {=IF(OR('V6'!$B$61="",'V6'!$C$61=""),"",_xlfn._xlws.FILTER($L$29:$L$68,($J$29:$J$68='V6'!$B$61)*($K$29:$K$68='V6'!$C$61)*($L$29:$L$68<>"")))} -> 0.05 | AA27: Alternative 2 - Demonstrate that the difference in peak air temperature has been achieved through dynamic UHIE simulation from the GRIHA base case as per Table 3.2c. | AB27: 1°C ≤ base case | AC27: 1
O28: Office | P28: 7 days a week | R28: 0.1 | AA28: Alternative 2 - Demonstrate that the difference in peak air temperature has been achieved through dynamic UHIE simulation from the GRIHA base case as per Table 3.2c. | AB28: 2°C ≤ base case | AC28: 2
J29: Institutional | K29: 5 days a week | L29: 0.05 | M29: 0 | O29: Healthcare | R29: 0.15
A30: Reduction in project EPI against the GRIHA Base line | J30: Institutional | K30: 5 days a week | L30: 0.1 | M30: 1 | O30: Hospitality | R30: 0.2
A31: Mandatory | B31: Mandatory | J31: Institutional | K31: 5 days a week | L31: 0.15 | M31: 2 | O31: Residential | R31: 0.25
A32: 10% ≤ x < 20% | B32: 1 | D32: Alternative | E32: Alternative 1 - Demonstrate temperature reduction in the predicted hourly average air temperature (°C) from the GRIHA base case | F32: Alternative 2 - Demonstrate that the difference in peak air temperature has been achieved through dynamic UHIE simulation from the GRIHA base case | G32: Not_Attempting | J32: Institutional | K32: 5 days a week | L32: 0.2 | M32: 3 | O32: Retail
A33: 20% ≤ x < 30% | B33: 2 | D33: Alternative_1_Demonstrate_temperature_reduction_in_the_predicted_hourly_average_air_temperature_°C_from_the_GRIHA_base_case | E33: 1.5°C ≤ base case | F33: 1°C ≤ base case | G33: Not Attempting | J33: Institutional | K33: 5 days a week | L33: 0.25 | M33: 5 | O33: Transit Terminals
A34: 30% ≤ x < 40% | B34: 4 | D34: Alternative_2_Demonstrate_that_the_difference_in_peak_air_temperature_has_been_achieved_through_dynamic_UHIE_simulation_from_the_GRIHA_base_case | E34: 2.5°C ≤ base case | F34: 2°C ≤ base case | J34: Office | K34: 5 days a week | L34: 0.05 | M34: 0
A35: 40% ≤ x < 50% | B35: 6 | D35: Not_Attempting | J35: Office | K35: 5 days a week | L35: 0.1 | M35: 1
A36: x ≥ 50% | B36: 8 | J36: Office | K36: 5 days a week | L36: 0.15 | M36: 2
J37: Office | K37: 5 days a week | L37: 0.2 | M37: 3
A38: Alternative 1 (On-site/On-site and off-site combination renewable energy system) | B38: Alternative 2 (Off-site renewable energy system) | J38: Office | K38: 5 days a week | L38: 0.25 | M38: 5
D39: No | J39: Healthcare | K39: 7 days a week | L39: 0.01 | M39: 0
A40: Not Attempting | D40: Yes & attempting | J40: Healthcare | K40: 7 days a week | L40: 0.03 | M40: 1
A41: > 30% | D41: Yes but not attempting | J41: Healthcare | K41: 7 days a week | L41: 0.05 | M41: 2
A42: 20% < x ≤ 30% | J42: Healthcare | K42: 7 days a week | L42: 0.07 | M42: 3
A43: Not Attempting | J43: Healthcare | K43: 7 days a week | L43: 0.1 | M43: 5
A44: 50% < x < 70% | J44: Hospitality | K44: 7 days a week | L44: 0.01 | M44: 0
A45: x ≥ 75% | J45: Hospitality | K45: 7 days a week | L45: 0.03 | M45: 1
J46: Hospitality | K46: 7 days a week | L46: 0.05 | M46: 2
A47: Not Attempting | J47: Hospitality | K47: 7 days a week | L47: 0.07 | M47: 3
A48: Percentage of storm water run-off managed on-site - 25% ≤ x < 50% | J48: Hospitality | K48: 7 days a week | L48: 0.1 | M48: 5
A49: Percentage of storm water run-off managed on-site - 50% ≤ x < 75% | J49: Office | K49: 7 days a week | L49: 0.01 | M49: 0
A50: Percentage of storm water run-off managed on-site - 75% ≤ x < 100% | J50: Office | K50: 7 days a week | L50: 0.03 | M50: 1
A51: Percentage of storm water run-off managed on-site - x = 100% | J51: Office | K51: 7 days a week | L51: 0.05 | M51: 2
J52: Office | K52: 7 days a week | L52: 0.07 | M52: 3
A53: Not Attempting | J53: Office | K53: 7 days a week | L53: 0.1 | M53: 5
A54: Percentage reduction from GRIHA benchmark - 10% ≤ x < 25% | J54: Residential | K54: 7 days a week | L54: 0 | M54: 0
A55: Percentage reduction from GRIHA benchmark - 25% ≤ x < 50% | J55: Residential | K55: 7 days a week | L55: 0.1 | M55: 1
A56: Percentage reduction from GRIHA benchmark - 50% ≤ x < 75% | J56: Residential | K56: 7 days a week | L56: 0.15 | M56: 2
A57: Percentage reduction from GRIHA benchmark ≥ 75% | J57: Residential | K57: 7 days a week | L57: 0.2 | M57: 3
J58: Residential | K58: 7 days a week | L58: 0.25 | M58: 5
J59: Retail | K59: 7 days a week | L59: 0.01 | M59: 0
A60: Not Attempting | J60: Retail | K60: 7 days a week | L60: 0.03 | M60: 1
A61: Replacement by 20% ≤ x < 30% | J61: Retail | K61: 7 days a week | L61: 0.05 | M61: 2
A62: Replacement by x ≥ 30% | J62: Retail | K62: 7 days a week | L62: 0.07 | M62: 3
J63: Retail | K63: 7 days a week | L63: 0.1 | M63: 5
J64: Transit Terminals | K64: 7 days a week | L64: 0.01 | M64: 0
A65: Not Attempting | J65: Transit Terminals | K65: 7 days a week | L65: 0.03 | M65: 1
J66: Transit Terminals | K66: 7 days a week | L66: 0.05 | M66: 2
A67: Alternative 1: Demonstrate a reduction in GWP values of the components in primary materials | J67: Transit Terminals | K67: 7 days a week | L67: 0.07 | M67: 3
A68: Alternative 2: Demonstrate a reduction in GWP values of the components in primary and secondary materials | J68: Transit Terminals | K68: 7 days a week | L68: 0.1 | M68: 5
A69: Alternative 3: Demonstrate a reduction in GWP values of the components in primary, secondary, fit-outs and furniture materials
A71: Alternative 1: 10 years ≥ x > 8 years
A72: Alternative 1: 8 years ≥ x > 6 years
A73: Alternative 1: x ≤ 6 years
A75: Not Attempting
A76: Alternative 1: Demonstrate using the GRIHA LCC calculator that the cumulative payback period for the project (for the life stages defined in details to appraisal) is below the GRIHA thresholds
A77: Alternative 2: Submit a Return on Investment (ROI)–based financial analysis to establish compliance with the criterion on economic viability.
A79: OPTION A: Ensure minimum 5% replacement of natural aggregate with recycled concrete aggregate (RCA)/ recycled aggregate (RA) by weight of that category of aggregate in structural concrete
A80: Option B: Ensure minimum 5% replacement of river sand with manufactured sand (M-sand) in structural concrete. | D80: Alternative 1: Ensure that tobacco smoking is prohibited within the site premises
D81: Alternative 2: Ensure that designated smoking zone(s) is provided and the smoke is managed within a controlled environment
A82: Alternative 1: ≥ 25%
A83: Alternative 1: ≥ 30%
A84: Alternative 1:≥ 35%
A85: Alternative 2: ≥ 20%
A86: Alternative 2:≥ 25% | F86: 0 | G86: 5
A87: Alternative 2:≥ 30% | F87: 1
A88: Alternative 3:≥ 10% | F88: 2
A89: Alternative 3:≥ 15% | F89: 3
A90: Alternative 3:≥ 20% | F90: 5
A92: Not Attempted
A93: Alternative 1: Ensure that the project adopts at least one measure on-site for occupants and visitors (as applicable)
A94: Alternative 2: Offsite (minimum 2 programmes in a year) to create environmental awareness amongst general masses.
A96: Not Attempting
A97: Installation of two-way communicable system
A99: Not Attempting
A100: Innovation strategy 1 | C100: 1
A101: Innovation strategy 2 | C101: 1
A102: Innovation strategy 3 | C102: 1
A103: Innovation strategy 4 | C103: 1 | D103: If yes then 2nd appraisal is applicable | F103: If yes then 2nd appraisal is applicable
A104: Innovation strategy 5 | C104: 1
A106: 0 | P106: Daytime occupancy | R106: 24-hours occupancy
A107: 2 | B107: 0 | C107: 0 | D107: Yes | E107: 0
A108: 4 | B108: 2 | C108: 4 | D108: No & attempting | E108: 1
D109: No but not attempting | E109: 0 | P109: 5 days a week | R109: 7 days a week
P110: Institutional | Q110: Office | R110: Healthcare | S110: Hospitality | T110: Office | U110: Residential | V110: Retail | W110: Transit Terminals | X110: Points
A111: Yes
A112: No | P112: 0.05 | Q112: 0.05 | R112: 0.01 | S112: 0.01 | T112: 0.01 | V112: 0.01 | W112: 0.01 | X112: Mandatory (On site)
E113: If yes then applicable if no then 0 points | P113: 0.1 | Q113: 0.1 | R113: 0.03 | S113: 0.03 | T113: 0.03 | U113: 0.1 | V113: 0.03 | W113: 0.03 | X113: 1
A114: Yes | E114: If yes then applicable if no then 0 points
...
